BEGIN:VCALENDAR
VERSION:2.0
PRODID:-//Soroptimist International of South Perth - ECPv6.15.17//NONSGML v1.0//EN
CALSCALE:GREGORIAN
METHOD:PUBLISH
X-ORIGINAL-URL:http://sisouthperth.org.au
X-WR-CALDESC:Events for Soroptimist International of South Perth
REFRESH-INTERVAL;VALUE=DURATION:PT1H
X-Robots-Tag:noindex
X-PUBLISHED-TTL:PT1H
BEGIN:VTIMEZONE
TZID:Australia/Perth
BEGIN:STANDARD
TZOFFSETFROM:+0800
TZOFFSETTO:+0800
TZNAME:AWST
DTSTART:20250101T000000
END:STANDARD
END:VTIMEZONE
BEGIN:VEVENT
DTSTART;VALUE=DATE:20260908
DTEND;VALUE=DATE:20260909
DTSTAMP:20260423T162305
CREATED:20260224T115054Z
LAST-MODIFIED:20260224T115054Z
UID:2396-1788825600-1788911999@sisouthperth.org.au
SUMMARY:International Literacy Day
DESCRIPTION:
URL:http://sisouthperth.org.au/event/international-literacy-day/
END:VEVENT
BEGIN:VEVENT
DTSTART;TZID=Australia/Perth:20260908T070000
DTEND;TZID=Australia/Perth:20260908T090000
DTSTAMP:20260423T162305
CREATED:20260118T084202Z
LAST-MODIFIED:20260124T082733Z
UID:2271-1788850800-1788858000@sisouthperth.org.au
SUMMARY:SISP Jean Hailes Women's Health Breakfast
DESCRIPTION:
URL:http://sisouthperth.org.au/event/sisp-breakfast-meeting-17/
LOCATION:Royal Perth Golf Club\, Labouchere Rd\, South Perth\, WA\, 6151
END:VEVENT
BEGIN:VEVENT
DTSTART;TZID=Australia/Perth:20260922T073000
DTEND;TZID=Australia/Perth:20260922T093000
DTSTAMP:20260423T162305
CREATED:20260118T084902Z
LAST-MODIFIED:20260118T084902Z
UID:2283-1790062200-1790069400@sisouthperth.org.au
SUMMARY:SISP Executive Meeting
DESCRIPTION:
URL:http://sisouthperth.org.au/event/sisp-executive-meeting-14/
LOCATION:Southcare
END:VEVENT
BEGIN:VEVENT
DTSTART;TZID=Australia/Perth:20260925T100000
DTEND;TZID=Australia/Perth:20260925T113000
DTSTAMP:20260423T162305
CREATED:20260212T064812Z
LAST-MODIFIED:20260212T064812Z
UID:2359-1790330400-1790335800@sisouthperth.org.au
SUMMARY:Orange Café
DESCRIPTION:
URL:http://sisouthperth.org.au/event/orange-cafe-5/
LOCATION:TBA
END:VEVENT
END:VCALENDAR