BEGIN:VCALENDAR
VERSION:2.0
PRODID:-//Soroptimist International of South Perth - ECPv6.15.17//NONSGML v1.0//EN
CALSCALE:GREGORIAN
METHOD:PUBLISH
X-ORIGINAL-URL:http://sisouthperth.org.au
X-WR-CALDESC:Events for Soroptimist International of South Perth
REFRESH-INTERVAL;VALUE=DURATION:PT1H
X-Robots-Tag:noindex
X-PUBLISHED-TTL:PT1H
BEGIN:VTIMEZONE
TZID:Australia/Perth
BEGIN:STANDARD
TZOFFSETFROM:+0800
TZOFFSETTO:+0800
TZNAME:AWST
DTSTART:20250101T000000
END:STANDARD
END:VTIMEZONE
BEGIN:VEVENT
DTSTART;TZID=Australia/Perth:20260811T070000
DTEND;TZID=Australia/Perth:20260811T090000
DTSTAMP:20260423T151030
CREATED:20260118T084055Z
LAST-MODIFIED:20260118T084055Z
UID:2269-1786431600-1786438800@sisouthperth.org.au
SUMMARY:SISP Breakfast Meeting
DESCRIPTION:
URL:http://sisouthperth.org.au/event/sisp-breakfast-meeting-16/
LOCATION:Royal Perth Golf Club\, Labouchere Rd\, South Perth\, WA\, 6151
END:VEVENT
BEGIN:VEVENT
DTSTART;VALUE=DATE:20260812
DTEND;VALUE=DATE:20260813
DTSTAMP:20260423T151030
CREATED:20260224T114932Z
LAST-MODIFIED:20260224T114932Z
UID:2391-1786492800-1786579199@sisouthperth.org.au
SUMMARY:International Youth Day
DESCRIPTION:
URL:http://sisouthperth.org.au/event/international-youth-day/
END:VEVENT
BEGIN:VEVENT
DTSTART;VALUE=DATE:20260819
DTEND;VALUE=DATE:20260820
DTSTAMP:20260423T151030
CREATED:20260224T115008Z
LAST-MODIFIED:20260224T115008Z
UID:2393-1787097600-1787183999@sisouthperth.org.au
SUMMARY:World Humanitarian Day
DESCRIPTION:
URL:http://sisouthperth.org.au/event/world-humanitarian-day/
END:VEVENT
BEGIN:VEVENT
DTSTART;TZID=Australia/Perth:20260825T073000
DTEND;TZID=Australia/Perth:20260825T093000
DTSTAMP:20260423T151030
CREATED:20260118T084948Z
LAST-MODIFIED:20260118T084948Z
UID:2285-1787643000-1787650200@sisouthperth.org.au
SUMMARY:SISP Executive Meeting
DESCRIPTION:
URL:http://sisouthperth.org.au/event/sisp-executive-meeting-15/
LOCATION:Southcare
END:VEVENT
END:VCALENDAR