BEGIN:VCALENDAR
VERSION:2.0
PRODID:-//Soroptimist International of South Perth - ECPv6.15.17//NONSGML v1.0//EN
CALSCALE:GREGORIAN
METHOD:PUBLISH
X-ORIGINAL-URL:http://sisouthperth.org.au
X-WR-CALDESC:Events for Soroptimist International of South Perth
REFRESH-INTERVAL;VALUE=DURATION:PT1H
X-Robots-Tag:noindex
X-PUBLISHED-TTL:PT1H
BEGIN:VTIMEZONE
TZID:Australia/Perth
BEGIN:STANDARD
TZOFFSETFROM:+0800
TZOFFSETTO:+0800
TZNAME:AWST
DTSTART:20250101T000000
END:STANDARD
END:VTIMEZONE
BEGIN:VEVENT
DTSTART;TZID=Australia/Perth:20260714T070000
DTEND;TZID=Australia/Perth:20260714T090000
DTSTAMP:20260423T140159
CREATED:20260118T083951Z
LAST-MODIFIED:20260118T083951Z
UID:2267-1784012400-1784019600@sisouthperth.org.au
SUMMARY:SISP Breakfast Meeting
DESCRIPTION:
URL:http://sisouthperth.org.au/event/sisp-breakfast-meeting-15/
LOCATION:Royal Perth Golf Club\, Labouchere Rd\, South Perth\, WA\, 6151
END:VEVENT
BEGIN:VEVENT
DTSTART;TZID=Australia/Perth:20260725T100000
DTEND;TZID=Australia/Perth:20260725T113000
DTSTAMP:20260423T140159
CREATED:20260212T064710Z
LAST-MODIFIED:20260212T064710Z
UID:2357-1784973600-1784979000@sisouthperth.org.au
SUMMARY:Orange Café
DESCRIPTION:
URL:http://sisouthperth.org.au/event/orange-cafe-4/
LOCATION:TBA
END:VEVENT
BEGIN:VEVENT
DTSTART;TZID=Australia/Perth:20260728T073000
DTEND;TZID=Australia/Perth:20260728T093000
DTSTAMP:20260423T140159
CREATED:20260118T085049Z
LAST-MODIFIED:20260118T085049Z
UID:2287-1785223800-1785231000@sisouthperth.org.au
SUMMARY:SISP Executive Meeting
DESCRIPTION:
URL:http://sisouthperth.org.au/event/sisp-executive-meeting-16/
LOCATION:Southcare
END:VEVENT
END:VCALENDAR