BEGIN:VCALENDAR
VERSION:2.0
PRODID:-//Soroptimist International of South Perth - ECPv6.15.17//NONSGML v1.0//EN
CALSCALE:GREGORIAN
METHOD:PUBLISH
X-WR-CALNAME:Soroptimist International of South Perth
X-ORIGINAL-URL:http://sisouthperth.org.au
X-WR-CALDESC:Events for Soroptimist International of South Perth
REFRESH-INTERVAL;VALUE=DURATION:PT1H
X-Robots-Tag:noindex
X-PUBLISHED-TTL:PT1H
BEGIN:VTIMEZONE
TZID:Australia/Perth
BEGIN:STANDARD
TZOFFSETFROM:+0800
TZOFFSETTO:+0800
TZNAME:AWST
DTSTART:20250101T000000
END:STANDARD
END:VTIMEZONE
BEGIN:VEVENT
DTSTART;VALUE=DATE:20260527
DTEND;VALUE=DATE:20260604
DTSTAMP:20260423T125001
CREATED:20260401T022044Z
LAST-MODIFIED:20260401T022044Z
UID:2440-1779840000-1780531199@sisouthperth.org.au
SUMMARY:National Reconciliation Week
DESCRIPTION:Each year\, National Reconciliation Week (27 May – 3 June) invites Australians to reflect on our shared history and consider how we can contribute to a more respectful and united future. It is an important time to learn about the cultures\, histories and achievements of Aboriginal and Torres Strait Islander peoples\, and to strengthen relationships between First Nations peoples and the wider community.
URL:http://sisouthperth.org.au/event/national-reconciliation-week/
END:VEVENT
BEGIN:VEVENT
DTSTART;VALUE=DATE:20260607
DTEND;VALUE=DATE:20260608
DTSTAMP:20260423T125001
CREATED:20260331T104218Z
LAST-MODIFIED:20260331T104218Z
UID:2438-1780790400-1780876799@sisouthperth.org.au
SUMMARY:Davilak Bushland Planting
DESCRIPTION:On Sunday 7 June\, am\, we will join members of the local community to plant seedlings at Davilak Bushland\, corner of Ley Street and Davilak Crescent.  Exact times and details to be provided.
URL:http://sisouthperth.org.au/event/davilak-bushland-planting/
LOCATION:Davilak Crescent Bushland\, Davilak Crescent\, Manning\, WA\, 6152\, Australia
ORGANIZER;CN="SISP":MAILTO:info@sisouthperth.org.au
END:VEVENT
BEGIN:VEVENT
DTSTART;TZID=Australia/Perth:20260609T070000
DTEND;TZID=Australia/Perth:20260609T090000
DTSTAMP:20260423T125001
CREATED:20260118T083844Z
LAST-MODIFIED:20260118T083844Z
UID:2265-1780988400-1780995600@sisouthperth.org.au
SUMMARY:SISP Breakfast Meeting
DESCRIPTION:
URL:http://sisouthperth.org.au/event/sisp-breakfast-meeting-14/
LOCATION:Royal Perth Golf Club\, Labouchere Rd\, South Perth\, WA\, 6151
END:VEVENT
BEGIN:VEVENT
DTSTART;TZID=Australia/Perth:20260623T073000
DTEND;TZID=Australia/Perth:20260623T093000
DTSTAMP:20260423T125001
CREATED:20260118T085155Z
LAST-MODIFIED:20260118T085155Z
UID:2289-1782199800-1782207000@sisouthperth.org.au
SUMMARY:SISP Executive Meeting
DESCRIPTION:
URL:http://sisouthperth.org.au/event/sisp-executive-meeting-17/
LOCATION:Southcare
END:VEVENT
END:VCALENDAR