BEGIN:VCALENDAR
VERSION:2.0
PRODID:-//Soroptimist International of South Perth - ECPv6.15.17//NONSGML v1.0//EN
CALSCALE:GREGORIAN
METHOD:PUBLISH
X-ORIGINAL-URL:http://sisouthperth.org.au
X-WR-CALDESC:Events for Soroptimist International of South Perth
REFRESH-INTERVAL;VALUE=DURATION:PT1H
X-Robots-Tag:noindex
X-PUBLISHED-TTL:PT1H
BEGIN:VTIMEZONE
TZID:Australia/Perth
BEGIN:STANDARD
TZOFFSETFROM:+0800
TZOFFSETTO:+0800
TZNAME:AWST
DTSTART:20250101T000000
END:STANDARD
END:VTIMEZONE
BEGIN:VEVENT
DTSTART;TZID=Australia/Perth:20260512T070000
DTEND;TZID=Australia/Perth:20260512T090000
DTSTAMP:20260423T112321
CREATED:20260118T083721Z
LAST-MODIFIED:20260118T083721Z
UID:2263-1778569200-1778576400@sisouthperth.org.au
SUMMARY:SISP Breakfast Meeting
DESCRIPTION:
URL:http://sisouthperth.org.au/event/sisp-breakfast-meeting-10/
LOCATION:Royal Perth Golf Club\, Labouchere Rd\, South Perth\, WA\, 6151
END:VEVENT
BEGIN:VEVENT
DTSTART;VALUE=DATE:20260518
DTEND;VALUE=DATE:20260525
DTSTAMP:20260423T112321
CREATED:20260128T070009Z
LAST-MODIFIED:20260128T070009Z
UID:2335-1779062400-1779667199@sisouthperth.org.au
SUMMARY:National Volunteer Week
DESCRIPTION:
URL:http://sisouthperth.org.au/event/national-volunteer-week/
END:VEVENT
BEGIN:VEVENT
DTSTART;TZID=Australia/Perth:20260525T100000
DTEND;TZID=Australia/Perth:20260525T113000
DTSTAMP:20260423T112321
CREATED:20260212T064620Z
LAST-MODIFIED:20260212T064620Z
UID:2355-1779703200-1779708600@sisouthperth.org.au
SUMMARY:Orange Café
DESCRIPTION:
URL:http://sisouthperth.org.au/event/orange-cafe-3/
LOCATION:TBA
END:VEVENT
BEGIN:VEVENT
DTSTART;TZID=Australia/Perth:20260526T073000
DTEND;TZID=Australia/Perth:20260526T093000
DTSTAMP:20260423T112321
CREATED:20260118T085302Z
LAST-MODIFIED:20260118T085302Z
UID:2291-1779780600-1779787800@sisouthperth.org.au
SUMMARY:SISP Executive Meeting
DESCRIPTION:
URL:http://sisouthperth.org.au/event/sisp-executive-meeting-18/
LOCATION:Southcare
END:VEVENT
BEGIN:VEVENT
DTSTART;VALUE=DATE:20260527
DTEND;VALUE=DATE:20260604
DTSTAMP:20260423T112321
CREATED:20260401T022044Z
LAST-MODIFIED:20260401T022044Z
UID:2440-1779840000-1780531199@sisouthperth.org.au
SUMMARY:National Reconciliation Week
DESCRIPTION:Each year\, National Reconciliation Week (27 May – 3 June) invites Australians to reflect on our shared history and consider how we can contribute to a more respectful and united future. It is an important time to learn about the cultures\, histories and achievements of Aboriginal and Torres Strait Islander peoples\, and to strengthen relationships between First Nations peoples and the wider community.
URL:http://sisouthperth.org.au/event/national-reconciliation-week/
END:VEVENT
END:VCALENDAR