BEGIN:VCALENDAR
VERSION:2.0
PRODID:-//Soroptimist International of South Perth - ECPv6.15.17//NONSGML v1.0//EN
CALSCALE:GREGORIAN
METHOD:PUBLISH
X-ORIGINAL-URL:http://sisouthperth.org.au
X-WR-CALDESC:Events for Soroptimist International of South Perth
REFRESH-INTERVAL;VALUE=DURATION:PT1H
X-Robots-Tag:noindex
X-PUBLISHED-TTL:PT1H
BEGIN:VTIMEZONE
TZID:Australia/Perth
BEGIN:STANDARD
TZOFFSETFROM:+0800
TZOFFSETTO:+0800
TZNAME:AWST
DTSTART:20250101T000000
END:STANDARD
END:VTIMEZONE
BEGIN:VEVENT
DTSTART;TZID=Australia/Perth:20260303T183000
DTEND;TZID=Australia/Perth:20260303T200000
DTSTAMP:20260423T112333
CREATED:20260212T093720Z
LAST-MODIFIED:20260212T093720Z
UID:2372-1772562600-1772568000@sisouthperth.org.au
SUMMARY:SI Maylands Peninsula - IWD Function
DESCRIPTION:
URL:http://sisouthperth.org.au/event/si-maylands-peninsula-iwd-function/
LOCATION:Forrest Park Croquet Club\, 66 Harold Street\, Mount Lawley\, WA\, 6050\, Australia
END:VEVENT
BEGIN:VEVENT
DTSTART;TZID=Australia/Perth:20260306T113000
DTEND;TZID=Australia/Perth:20260306T143000
DTSTAMP:20260423T112333
CREATED:20260118T091759Z
LAST-MODIFIED:20260118T091759Z
UID:2305-1772796600-1772807400@sisouthperth.org.au
SUMMARY:SI Mandurah - IWD Lunch
DESCRIPTION:
URL:http://sisouthperth.org.au/event/si-mandurah-iwd-lunch/
LOCATION:The Sebel Mandurah\, 1 Marco Polo Drive\, Mandurah\, Western Australia\, 6210\, Australia
END:VEVENT
BEGIN:VEVENT
DTSTART;VALUE=DATE:20260308
DTEND;VALUE=DATE:20260309
DTSTAMP:20260423T112333
CREATED:20260124T090431Z
LAST-MODIFIED:20260211T052344Z
UID:2331-1772928000-1773014399@sisouthperth.org.au
SUMMARY:International Women's Day
DESCRIPTION:
URL:http://sisouthperth.org.au/event/international-womens-day-3/
END:VEVENT
BEGIN:VEVENT
DTSTART;TZID=Australia/Perth:20260308T150000
DTEND;TZID=Australia/Perth:20260308T200000
DTSTAMP:20260423T112333
CREATED:20260211T050820Z
LAST-MODIFIED:20260211T050820Z
UID:2347-1772982000-1773000000@sisouthperth.org.au
SUMMARY:Manning Laneway Festival
DESCRIPTION:
URL:http://sisouthperth.org.au/event/manning-laneway-festival-2/
LOCATION:Manning Laneway\, 52 Welwyn Avenue\, Manning\, Western Australia\, 6052\, Australia
END:VEVENT
BEGIN:VEVENT
DTSTART;TZID=Australia/Perth:20260310T070000
DTEND;TZID=Australia/Perth:20260310T090000
DTSTAMP:20260423T112333
CREATED:20260118T083457Z
LAST-MODIFIED:20260213T091617Z
UID:2259-1773126000-1773133200@sisouthperth.org.au
SUMMARY:SISP IWD Breakfast
DESCRIPTION:
URL:http://sisouthperth.org.au/event/sisp-iwd-breakfast/
LOCATION:Royal Perth Golf Club\, Labouchere Rd\, South Perth\, WA\, 6151
END:VEVENT
BEGIN:VEVENT
DTSTART;TZID=Australia/Perth:20260319T100000
DTEND;TZID=Australia/Perth:20260319T113000
DTSTAMP:20260423T112333
CREATED:20260302T090932Z
LAST-MODIFIED:20260302T090932Z
UID:2417-1773914400-1773919800@sisouthperth.org.au
SUMMARY:SISP Coffee Morning
DESCRIPTION:
URL:http://sisouthperth.org.au/event/sisp-coffee-morning-6/
LOCATION:Boatshed Restaurant\, 1L Coode Street\, SOUTH PERTH\, WA\, 6151\, Australia
ORGANIZER;CN="SISP":MAILTO:info@sisouthperth.org.au
END:VEVENT
BEGIN:VEVENT
DTSTART;VALUE=DATE:20260322
DTEND;VALUE=DATE:20260323
DTSTAMP:20260423T112333
CREATED:20260124T090813Z
LAST-MODIFIED:20260124T090813Z
UID:2333-1774137600-1774223999@sisouthperth.org.au
SUMMARY:World Water Day
DESCRIPTION:
URL:http://sisouthperth.org.au/event/world-water-day/
END:VEVENT
BEGIN:VEVENT
DTSTART;TZID=Australia/Perth:20260324T073000
DTEND;TZID=Australia/Perth:20260324T093000
DTSTAMP:20260423T112333
CREATED:20260118T085452Z
LAST-MODIFIED:20260118T085452Z
UID:2295-1774337400-1774344600@sisouthperth.org.au
SUMMARY:SISP Executive Meeting
DESCRIPTION:
URL:http://sisouthperth.org.au/event/sisp-executive-meeting-20/
LOCATION:Southcare
END:VEVENT
BEGIN:VEVENT
DTSTART;TZID=Australia/Perth:20260325T100000
DTEND;TZID=Australia/Perth:20260325T113000
DTSTAMP:20260423T112333
CREATED:20260212T064535Z
LAST-MODIFIED:20260212T064535Z
UID:2353-1774432800-1774438200@sisouthperth.org.au
SUMMARY:Orange Café
DESCRIPTION:
URL:http://sisouthperth.org.au/event/orange-cafe-2/
LOCATION:TBA
END:VEVENT
END:VCALENDAR