BEGIN:VCALENDAR
VERSION:2.0
PRODID:-//Soroptimist International of South Perth - ECPv6.15.17//NONSGML v1.0//EN
CALSCALE:GREGORIAN
METHOD:PUBLISH
X-WR-CALNAME:Soroptimist International of South Perth
X-ORIGINAL-URL:http://sisouthperth.org.au
X-WR-CALDESC:Events for Soroptimist International of South Perth
REFRESH-INTERVAL;VALUE=DURATION:PT1H
X-Robots-Tag:noindex
X-PUBLISHED-TTL:PT1H
BEGIN:VTIMEZONE
TZID:Australia/Perth
BEGIN:STANDARD
TZOFFSETFROM:+0800
TZOFFSETTO:+0800
TZNAME:AWST
DTSTART:20250101T000000
END:STANDARD
END:VTIMEZONE
BEGIN:VEVENT
DTSTART;TZID=Australia/Perth:20260107T100000
DTEND;TZID=Australia/Perth:20260107T120000
DTSTAMP:20260421T210804
CREATED:20260112T103218Z
LAST-MODIFIED:20260112T103258Z
UID:2237-1767780000-1767787200@sisouthperth.org.au
SUMMARY:SISP Morning Tea
DESCRIPTION:Our first event for the year and a chance for us to catch up with fellow Soroptimists after the festive season.
URL:http://sisouthperth.org.au/event/sisp-morning-tea/
LOCATION:Koorak Cafe Kings Park\, 37 Kings Park Rd\, West Perth\, WA\, 6151\, Australia
ORGANIZER;CN="SISP":MAILTO:info@sisouthperth.org.au
END:VEVENT
BEGIN:VEVENT
DTSTART;TZID=Australia/Perth:20260113T080000
DTEND;TZID=Australia/Perth:20260113T093000
DTSTAMP:20260421T210804
CREATED:20260112T102806Z
LAST-MODIFIED:20260112T102806Z
UID:2235-1768291200-1768296600@sisouthperth.org.au
SUMMARY:SISP Executive Meeting
DESCRIPTION:
URL:http://sisouthperth.org.au/event/sisp-executive-meeting-11/
LOCATION:Southcare
ORGANIZER;CN="SISP":MAILTO:info@sisouthperth.org.au
END:VEVENT
BEGIN:VEVENT
DTSTART;VALUE=DATE:20260124
DTEND;VALUE=DATE:20260125
DTSTAMP:20260421T210804
CREATED:20260124T090203Z
LAST-MODIFIED:20260124T090203Z
UID:2327-1769212800-1769299199@sisouthperth.org.au
SUMMARY:International Day of Education
DESCRIPTION:
URL:http://sisouthperth.org.au/event/international-day-of-education/
END:VEVENT
BEGIN:VEVENT
DTSTART;TZID=Australia/Perth:20260129T100000
DTEND;TZID=Australia/Perth:20260129T113000
DTSTAMP:20260421T210804
CREATED:20260118T090049Z
LAST-MODIFIED:20260118T090049Z
UID:2299-1769680800-1769686200@sisouthperth.org.au
SUMMARY:SISP Coffee Morning
DESCRIPTION:
URL:http://sisouthperth.org.au/event/sisp-coffee-morning-5/
LOCATION:At Adels\, 254 Mill Point Road\, South Perth\, Western Australia\, 6151\, Australia
ORGANIZER;CN="SISP":MAILTO:info@sisouthperth.org.au
END:VEVENT
BEGIN:VEVENT
DTSTART;TZID=Australia/Perth:20260129T173000
DTEND;TZID=Australia/Perth:20260129T190000
DTSTAMP:20260421T210804
CREATED:20260124T082408Z
LAST-MODIFIED:20260124T082408Z
UID:2313-1769707800-1769713200@sisouthperth.org.au
SUMMARY:Sunset by the River
DESCRIPTION:
URL:http://sisouthperth.org.au/event/sunset-by-the-river/
LOCATION:Sir James Mitchell Park\, South Perth\, WA\, 6151\, Australia
ORGANIZER;CN="SISP":MAILTO:info@sisouthperth.org.au
END:VEVENT
END:VCALENDAR