BEGIN:VCALENDAR
VERSION:2.0
PRODID:-//Soroptimist International of South Perth - ECPv6.15.17//NONSGML v1.0//EN
CALSCALE:GREGORIAN
METHOD:PUBLISH
X-WR-CALNAME:Soroptimist International of South Perth
X-ORIGINAL-URL:http://sisouthperth.org.au
X-WR-CALDESC:Events for Soroptimist International of South Perth
REFRESH-INTERVAL;VALUE=DURATION:PT1H
X-Robots-Tag:noindex
X-PUBLISHED-TTL:PT1H
BEGIN:VTIMEZONE
TZID:Australia/Perth
BEGIN:STANDARD
TZOFFSETFROM:+0800
TZOFFSETTO:+0800
TZNAME:AWST
DTSTART:20240101T000000
END:STANDARD
END:VTIMEZONE
BEGIN:VEVENT
DTSTART;VALUE=DATE:20251011
DTEND;VALUE=DATE:20251012
DTSTAMP:20260421T170129
CREATED:20250709T102618Z
LAST-MODIFIED:20250709T102618Z
UID:2064-1760140800-1760227199@sisouthperth.org.au
SUMMARY:International Day of the Girl Child
DESCRIPTION:
URL:http://sisouthperth.org.au/event/international-day-of-the-girl-child/
END:VEVENT
BEGIN:VEVENT
DTSTART;TZID=Australia/Perth:20251014T070000
DTEND;TZID=Australia/Perth:20251014T090000
DTSTAMP:20260421T170129
CREATED:20250709T041200Z
LAST-MODIFIED:20250709T041200Z
UID:1958-1760425200-1760432400@sisouthperth.org.au
SUMMARY:SISP Breakfast Meeting
DESCRIPTION:
URL:http://sisouthperth.org.au/event/sisp-breakfast-meeting-8/
LOCATION:Royal Perth Golf Club\, Labouchere Rd\, South Perth\, WA\, 6151
ORGANIZER;CN="SISP":MAILTO:info@sisouthperth.org.au
END:VEVENT
BEGIN:VEVENT
DTSTART;TZID=Australia/Perth:20251025T100000
DTEND;TZID=Australia/Perth:20251025T113000
DTSTAMP:20260421T170129
CREATED:20250709T102848Z
LAST-MODIFIED:20250709T102848Z
UID:2068-1761386400-1761391800@sisouthperth.org.au
SUMMARY:SISP Orange Cafe
DESCRIPTION:
URL:http://sisouthperth.org.au/event/sisp-orange-cafe-3/
ORGANIZER;CN="SISP":MAILTO:info@sisouthperth.org.au
END:VEVENT
BEGIN:VEVENT
DTSTART;TZID=Australia/Perth:20251028T073000
DTEND;TZID=Australia/Perth:20251028T093000
DTSTAMP:20260421T170129
CREATED:20250709T103018Z
LAST-MODIFIED:20250709T103018Z
UID:2070-1761636600-1761643800@sisouthperth.org.au
SUMMARY:SISP Executive Meeting
DESCRIPTION:
URL:http://sisouthperth.org.au/event/sisp-executive-meeting-9/
LOCATION:Southcare
ORGANIZER;CN="SISP":MAILTO:info@sisouthperth.org.au
END:VEVENT
END:VCALENDAR