BEGIN:VCALENDAR
VERSION:2.0
PRODID:-//Soroptimist International of South Perth - ECPv6.15.17//NONSGML v1.0//EN
CALSCALE:GREGORIAN
METHOD:PUBLISH
X-ORIGINAL-URL:http://sisouthperth.org.au
X-WR-CALDESC:Events for Soroptimist International of South Perth
REFRESH-INTERVAL;VALUE=DURATION:PT1H
X-Robots-Tag:noindex
X-PUBLISHED-TTL:PT1H
BEGIN:VTIMEZONE
TZID:Australia/Perth
BEGIN:STANDARD
TZOFFSETFROM:+0800
TZOFFSETTO:+0800
TZNAME:AWST
DTSTART:20230101T000000
END:STANDARD
END:VTIMEZONE
BEGIN:VEVENT
DTSTART;TZID=Australia/Perth:20240409T070000
DTEND;TZID=Australia/Perth:20240409T090000
DTSTAMP:20260421T200409
CREATED:20240326T044808Z
LAST-MODIFIED:20240326T044808Z
UID:1674-1712646000-1712653200@sisouthperth.org.au
SUMMARY:April 2024 Breakfast Meeting
DESCRIPTION:Our April breakfast meeting will be held at the Royal Perth Golf Club at 7.00 am on Tuesday 9 April 2024. \nPlease join us for a breakfast and an opportunity to hear about the work we do and the wonderful opportunities there are to support women and girls in need. \nDetails:\nTime: 7.00 am\nCost: $30.00\nVenue: Royal Perth Golf Club\, Labouchere Road\, South Perth \nPlease contact our club secretary to make a booking by emailing:\ninfo@sisouthperth.org.au
URL:http://sisouthperth.org.au/event/april-2024-breakfast-meeting/
LOCATION:Royal Perth Golf Club\, Labouchere Rd\, South Perth\, WA\, 6151
END:VEVENT
END:VCALENDAR