BEGIN:VCALENDAR
VERSION:2.0
PRODID:-//Soroptimist International of South Perth - ECPv6.15.17//NONSGML v1.0//EN
CALSCALE:GREGORIAN
METHOD:PUBLISH
X-ORIGINAL-URL:http://sisouthperth.org.au
X-WR-CALDESC:Events for Soroptimist International of South Perth
REFRESH-INTERVAL;VALUE=DURATION:PT1H
X-Robots-Tag:noindex
X-PUBLISHED-TTL:PT1H
BEGIN:VTIMEZONE
TZID:Australia/Perth
BEGIN:STANDARD
TZOFFSETFROM:+0800
TZOFFSETTO:+0800
TZNAME:AWST
DTSTART:20230101T000000
END:STANDARD
END:VTIMEZONE
BEGIN:VEVENT
DTSTART;TZID=Australia/Perth:20240210T160000
DTEND;TZID=Australia/Perth:20240210T210000
DTSTAMP:20260422T032140
CREATED:20240201T042156Z
LAST-MODIFIED:20240201T042156Z
UID:1625-1707580800-1707598800@sisouthperth.org.au
SUMMARY:Manning Laneway Festival
DESCRIPTION:At a loss for something to do on the afternoon of 10 February? \nThe Manning Laneway Festival is on from 4.00-9.00pm and we Soroptimist International of South Perth will have a stall. Besides coming to chat with us and find what Soroptimists are about\, we have activities where the kids can challenge themselves at the Coin Drop and the Spin the Wheel Fruit & Veggie quiz. \nLook forward to seeing you there.
URL:http://sisouthperth.org.au/event/manning-laneway-festival/
LOCATION:Manning Laneway\, 52 Welwyn Avenue\, Manning\, Western Australia\, 6052\, Australia
ORGANIZER;CN="SISP":MAILTO:info@sisouthperth.org.au
END:VEVENT
BEGIN:VEVENT
DTSTART;TZID=Australia/Perth:20240213T070000
DTEND;TZID=Australia/Perth:20240213T090000
DTSTAMP:20260422T032140
CREATED:20240128T042450Z
LAST-MODIFIED:20240128T042450Z
UID:1617-1707807600-1707814800@sisouthperth.org.au
SUMMARY:February Breakfast Meeting
DESCRIPTION:Our first breakfast meeting for 2024\, will be held at the Royal Perth Golf Club at 7.00 am on Tuesday 13 February 2024. \nPlease join us for a breakfast and an opportunity to hear about the work we do and the wonderful opportunities there are to support women and girls in need. \nDetails:\nTime: 7.00 am\nCost: $30.00\nVenue: Royal Perth Golf Club\, Labouchere Road\, South Perth \nPlease contact our club secretary to make a booking by emailing: info@sisouthperth.org.au \n 
URL:http://sisouthperth.org.au/event/february-breakfast-meeting/
LOCATION:Royal Perth Golf Club\, Labouchere Rd\, South Perth\, WA\, 6151
ORGANIZER;CN="SISP":MAILTO:info@sisouthperth.org.au
END:VEVENT
END:VCALENDAR