BEGIN:VCALENDAR
VERSION:2.0
PRODID:-//Soroptimist International of South Perth - ECPv6.15.17//NONSGML v1.0//EN
CALSCALE:GREGORIAN
METHOD:PUBLISH
X-ORIGINAL-URL:http://sisouthperth.org.au
X-WR-CALDESC:Events for Soroptimist International of South Perth
REFRESH-INTERVAL;VALUE=DURATION:PT1H
X-Robots-Tag:noindex
X-PUBLISHED-TTL:PT1H
BEGIN:VTIMEZONE
TZID:Australia/Perth
BEGIN:STANDARD
TZOFFSETFROM:+0800
TZOFFSETTO:+0800
TZNAME:AWST
DTSTART:20220101T000000
END:STANDARD
END:VTIMEZONE
BEGIN:VEVENT
DTSTART;TZID=Australia/Perth:20231112T080000
DTEND;TZID=Australia/Perth:20231112T140000
DTSTAMP:20260422T075352
CREATED:20230905T054237Z
LAST-MODIFIED:20230905T054237Z
UID:1603-1699776000-1699797600@sisouthperth.org.au
SUMMARY:2023 Giant Spring Fair
DESCRIPTION:It’s on again!\n \nWe know you love it!
URL:http://sisouthperth.org.au/event/2023-giant-spring-fair/
LOCATION:South Perth Primary School\, Forrest St\, South Perth\, WA\, 6151
ORGANIZER;CN="SISP":MAILTO:info@sisouthperth.org.au
END:VEVENT
END:VCALENDAR