BEGIN:VCALENDAR
VERSION:2.0
PRODID:-//Soroptimist International of South Perth - ECPv6.15.17//NONSGML v1.0//EN
CALSCALE:GREGORIAN
METHOD:PUBLISH
X-ORIGINAL-URL:http://sisouthperth.org.au
X-WR-CALDESC:Events for Soroptimist International of South Perth
REFRESH-INTERVAL;VALUE=DURATION:PT1H
X-Robots-Tag:noindex
X-PUBLISHED-TTL:PT1H
BEGIN:VTIMEZONE
TZID:Australia/Perth
BEGIN:STANDARD
TZOFFSETFROM:+0800
TZOFFSETTO:+0800
TZNAME:AWST
DTSTART:20220101T000000
END:STANDARD
END:VTIMEZONE
BEGIN:VEVENT
DTSTART;TZID=Australia/Perth:20230611T160000
DTEND;TZID=Australia/Perth:20230611T183000
DTSTAMP:20260422T150224
CREATED:20230502T055324Z
LAST-MODIFIED:20230502T055324Z
UID:1532-1686499200-1686508200@sisouthperth.org.au
SUMMARY:The Unlikely Pilgrimage of Harold Fry - Movie Fundraiser
DESCRIPTION:Harold is an ordinary man who has passed through life\, living on the side lines\, until he goes to post a letter one day…and just keeps walking. \nCome along and find out why Harold has to keep walking \n \nWhen: Sunday 11 June 2023\, 4.00pm\nWhere: Windsor Cinema\,\n98 Stirling Highway\, Nedlands\nTickets: $25.00\nBookings: Humanatix: events.humanitix.com/movie-fundraiser-the-unlikely-pilgrimage-of-harold-fry  \nAll proceeds support our projects for women and girls.
URL:http://sisouthperth.org.au/event/the-unlikely-pilgrimage-of-harold-fry-movie-fundraiser/
LOCATION:Windsor Cinema\, Stirling Highway\, Nedlands\, WA\, Australia
ORGANIZER;CN="SISP":MAILTO:info@sisouthperth.org.au
END:VEVENT
END:VCALENDAR