BEGIN:VCALENDAR
VERSION:2.0
PRODID:-//Soroptimist International of South Perth - ECPv6.15.17//NONSGML v1.0//EN
CALSCALE:GREGORIAN
METHOD:PUBLISH
X-WR-CALNAME:Soroptimist International of South Perth
X-ORIGINAL-URL:http://sisouthperth.org.au
X-WR-CALDESC:Events for Soroptimist International of South Perth
REFRESH-INTERVAL;VALUE=DURATION:PT1H
X-Robots-Tag:noindex
X-PUBLISHED-TTL:PT1H
BEGIN:VTIMEZONE
TZID:Australia/Perth
BEGIN:STANDARD
TZOFFSETFROM:+0800
TZOFFSETTO:+0800
TZNAME:AWST
DTSTART:20220101T000000
END:STANDARD
END:VTIMEZONE
BEGIN:VEVENT
DTSTART;TZID=Australia/Perth:20230509T070000
DTEND;TZID=Australia/Perth:20230509T090000
DTSTAMP:20260422T161310
CREATED:20230502T051842Z
LAST-MODIFIED:20230502T051842Z
UID:1519-1683615600-1683622800@sisouthperth.org.au
SUMMARY:May Breakfast Meeting
DESCRIPTION:Our May  breakfast meeting will be held at the Royal Perth Golf Club at 7.00 am on Tuesday 9 May 2023. \nPlease join us for a breakfast and an opportunity to hear about the work we do and the wonderful opportunities there are to support women and girls in need. \nDetails:\nTime: 7.00 am\nCost: $30.00\nVenue: Royal Perth Golf Club\, Labouchere Road\, South Perth
URL:http://sisouthperth.org.au/event/may-breakfast-meeting-3/
LOCATION:Royal Perth Golf Club\, Labouchere Rd\, South Perth\, WA\, 6151
ORGANIZER;CN="SISP":MAILTO:info@sisouthperth.org.au
END:VEVENT
BEGIN:VEVENT
DTSTART;TZID=Australia/Perth:20230509T180000
DTEND;TZID=Australia/Perth:20230509T200000
DTSTAMP:20260422T161310
CREATED:20230412T031344Z
LAST-MODIFIED:20230412T031344Z
UID:1503-1683655200-1683662400@sisouthperth.org.au
SUMMARY:The Floor Is Yours - Public Speaking Competition
DESCRIPTION:Presented by Soroptimist Internationnal. Curtin University heat supported by Curtin Student Guild.\nMore information and registration details HERE
URL:http://sisouthperth.org.au/event/the-floor-is-yours-public-speaking-competition/
LOCATION:Curtin University Medical School Room 401.428\, Hayman Road\, Bentley\, Western Australia\, 6102\, Australia
ORGANIZER;CN="SISP":MAILTO:info@sisouthperth.org.au
END:VEVENT
BEGIN:VEVENT
DTSTART;TZID=Australia/Perth:20230513T080000
DTEND;TZID=Australia/Perth:20230513T120000
DTSTAMP:20260422T161310
CREATED:20230410T052342Z
LAST-MODIFIED:20230410T052342Z
UID:1484-1683964800-1683979200@sisouthperth.org.au
SUMMARY:Mother's Day cake Stall
DESCRIPTION:
URL:http://sisouthperth.org.au/event/mothers-day-cake-stall-3/
LOCATION:Outside SOCO Realty\, 57 Angelo Street\, South Perth\, WA\, 6151\, Australia
ORGANIZER;CN="SISP":MAILTO:info@sisouthperth.org.au
END:VEVENT
END:VCALENDAR