BEGIN:VCALENDAR
VERSION:2.0
PRODID:-//Soroptimist International of South Perth - ECPv6.15.17//NONSGML v1.0//EN
CALSCALE:GREGORIAN
METHOD:PUBLISH
X-ORIGINAL-URL:http://sisouthperth.org.au
X-WR-CALDESC:Events for Soroptimist International of South Perth
REFRESH-INTERVAL;VALUE=DURATION:PT1H
X-Robots-Tag:noindex
X-PUBLISHED-TTL:PT1H
BEGIN:VTIMEZONE
TZID:Australia/Perth
BEGIN:STANDARD
TZOFFSETFROM:+0800
TZOFFSETTO:+0800
TZNAME:AWST
DTSTART:20220101T000000
END:STANDARD
END:VTIMEZONE
BEGIN:VEVENT
DTSTART;TZID=Australia/Perth:20230411T070000
DTEND;TZID=Australia/Perth:20230411T090000
DTSTAMP:20260422T173357
CREATED:20230410T054227Z
LAST-MODIFIED:20230410T054227Z
UID:1490-1681196400-1681203600@sisouthperth.org.au
SUMMARY:April Breakfast Meeting
DESCRIPTION:Our April breakfast meeting will be will be held at the Royal Perth Golf Club at 7.00 am on Tuesday 11 April 2023.\n\n \n\nPlease join us for a breakfast and an opportunity to hear about the work we do and the wonderful opportunities there are to support women and girls in need.\n\n \nDetails:\nTime: 7.00 am\nCost: $30.00\nVenue: Royal Perth Golf Club\, Labouchere Road\, South Perth
URL:http://sisouthperth.org.au/event/april-breakfast-meeting-2/
LOCATION:Royal Perth Golf Club\, Labouchere Rd\, South Perth\, WA\, 6151
ORGANIZER;CN="SISP":MAILTO:info@sisouthperth.org.au
END:VEVENT
END:VCALENDAR