BEGIN:VCALENDAR
VERSION:2.0
PRODID:-//Soroptimist International of South Perth - ECPv6.15.17//NONSGML v1.0//EN
CALSCALE:GREGORIAN
METHOD:PUBLISH
X-WR-CALNAME:Soroptimist International of South Perth
X-ORIGINAL-URL:http://sisouthperth.org.au
X-WR-CALDESC:Events for Soroptimist International of South Perth
REFRESH-INTERVAL;VALUE=DURATION:PT1H
X-Robots-Tag:noindex
X-PUBLISHED-TTL:PT1H
BEGIN:VTIMEZONE
TZID:Australia/Perth
BEGIN:STANDARD
TZOFFSETFROM:+0800
TZOFFSETTO:+0800
TZNAME:AWST
DTSTART:20220101T000000
END:STANDARD
END:VTIMEZONE
BEGIN:VEVENT
DTSTART;TZID=Australia/Perth:20230214T070000
DTEND;TZID=Australia/Perth:20230214T090000
DTSTAMP:20260422T201710
CREATED:20230207T040351Z
LAST-MODIFIED:20230207T041018Z
UID:1436-1676358000-1676365200@sisouthperth.org.au
SUMMARY:February Breakfast meeting and AGM
DESCRIPTION:Our February breakfast meeting will be our first official meeting for the year and will be held at the Royal Perth Golf Club at 7.00 am on Tuesday 7February 2023. The general meeting will be followed by the AGM. \nPlease join us for a hearty breakfast and an opportunity to hear about the work we do and the wonderful opportunities there are to support women and girls in need. \nDetails:\nTime: 7.00 am\nCost: $30.00 for breakfast buffet\nVenue: Royal Perth Golf Club\, Labouchere Road\, South Perth \nPlease contact our club secretary to make a booking by emailing:\ninfo@sisouthperth.org.au
URL:http://sisouthperth.org.au/event/february-breakfast-meeting-and-agm/
LOCATION:Royal Perth Golf Club\, Labouchere Rd\, South Perth\, WA\, 6151
ORGANIZER;CN="SISP":MAILTO:info@sisouthperth.org.au
END:VEVENT
END:VCALENDAR