BEGIN:VCALENDAR
VERSION:2.0
PRODID:-//Soroptimist International of South Perth - ECPv6.15.17//NONSGML v1.0//EN
CALSCALE:GREGORIAN
METHOD:PUBLISH
X-WR-CALNAME:Soroptimist International of South Perth
X-ORIGINAL-URL:http://sisouthperth.org.au
X-WR-CALDESC:Events for Soroptimist International of South Perth
REFRESH-INTERVAL;VALUE=DURATION:PT1H
X-Robots-Tag:noindex
X-PUBLISHED-TTL:PT1H
BEGIN:VTIMEZONE
TZID:Australia/Perth
BEGIN:STANDARD
TZOFFSETFROM:+0800
TZOFFSETTO:+0800
TZNAME:AWST
DTSTART:20210101T000000
END:STANDARD
END:VTIMEZONE
BEGIN:VEVENT
DTSTART;TZID=Australia/Perth:20220507T080000
DTEND;TZID=Australia/Perth:20220507T120000
DTSTAMP:20260423T095113
CREATED:20220406T053816Z
LAST-MODIFIED:20220425T043720Z
UID:1221-1651910400-1651924800@sisouthperth.org.au
SUMMARY:Mother's Day Cake Stall
DESCRIPTION:Treat mum on her special day!\nSelect from an outstanding range of freshly baked home made cakes and produce.\nWhen: Saturday 7 May 2022\, 8am – 12noon\nWhere: Outside SOCO Realty\, 57 Angelo Street\, South Perth \nAll proceeds support or programs helping women and girls. \nCash accepted & EFTPOS facilites available.\nCOVID safe practices observed. \nSoroptimist International South Perth\nCHARITABLE COLLECTIONS LICENCE CC22528
URL:http://sisouthperth.org.au/event/mothers-day-cake-stall-2/
LOCATION:Outside SOCO Realty\, 57 Angelo Street\, South Perth\, WA\, 6151\, Australia
ORGANIZER;CN="SISP":MAILTO:info@sisouthperth.org.au
END:VEVENT
BEGIN:VEVENT
DTSTART;TZID=Australia/Perth:20220510T070000
DTEND;TZID=Australia/Perth:20220510T090000
DTSTAMP:20260423T095113
CREATED:20220425T035130Z
LAST-MODIFIED:20220425T035411Z
UID:1249-1652166000-1652173200@sisouthperth.org.au
SUMMARY:May Breakfast Meeting
DESCRIPTION:Our May breakfast meeting will be will be held at the Royal Perth Golf Club at 7.00 am on Tuesday 10 May 2022. \n\n\n\nPlease join us for a hearty breakfast and an opportunity to hear about the work we do and the wonderful opportunities there are to support women and girls in need. \n\n\n\nDetails: Time: 7.00 am Cost: $28.00 full cooked breakfast Venue: Royal Perth Golf Club\, Labouchere Road\, South Perth \n\n\n\nPlease note that the wearing of masks and proof of double vaccination is required by the venue.
URL:http://sisouthperth.org.au/event/may-breakfast-meeting-2/
LOCATION:Royal Perth Golf Club\, Labouchere Rd\, South Perth\, WA\, 6151
ORGANIZER;CN="SISP":MAILTO:info@sisouthperth.org.au
END:VEVENT
END:VCALENDAR