BEGIN:VCALENDAR
VERSION:2.0
PRODID:-//Soroptimist International of South Perth - ECPv6.15.17//NONSGML v1.0//EN
CALSCALE:GREGORIAN
METHOD:PUBLISH
X-WR-CALNAME:Soroptimist International of South Perth
X-ORIGINAL-URL:http://sisouthperth.org.au
X-WR-CALDESC:Events for Soroptimist International of South Perth
REFRESH-INTERVAL;VALUE=DURATION:PT1H
X-Robots-Tag:noindex
X-PUBLISHED-TTL:PT1H
BEGIN:VTIMEZONE
TZID:Australia/Perth
BEGIN:STANDARD
TZOFFSETFROM:+0800
TZOFFSETTO:+0800
TZNAME:AWST
DTSTART:20210101T000000
END:STANDARD
END:VTIMEZONE
BEGIN:VEVENT
DTSTART;TZID=Australia/Perth:20220412T070000
DTEND;TZID=Australia/Perth:20220412T090000
DTSTAMP:20260423T112245
CREATED:20220406T054231Z
LAST-MODIFIED:20220406T054231Z
UID:1225-1649746800-1649754000@sisouthperth.org.au
SUMMARY:April Breakfast Meeting
DESCRIPTION:Our April breakfast meeting will be our first official meeting for the year and will be held at the Royal Perth Golf Club at 7.00 am on Tuesday 12 April 2022.\n\n \n\nPlease join us for a hearty breakfast and an opportunity to hear about the work we do and the wonderful opportunities there are to support women and girls in need.\n\n \nDetails:\nTime: 7.00 am\nCost: $28.00 full cooked breakfast\nVenue: Royal Perth Golf Club\, Labouchere Road\, South Perth \n \n\nPlease note that the wearing of masks and proof of double vaccination is required by the venue.\n\n \nPlease contact our club secretary to make a booking by emailing:\ninfo@sisouthperth.org.au
URL:http://sisouthperth.org.au/event/april-breakfast-meeting/
LOCATION:Royal Perth Golf Club\, Labouchere Rd\, South Perth\, WA\, 6151
ORGANIZER;CN="SISP":MAILTO:info@sisouthperth.org.au
END:VEVENT
BEGIN:VEVENT
DTSTART;TZID=Australia/Perth:20220426T180000
DTEND;TZID=Australia/Perth:20220426T200000
DTSTAMP:20260423T112245
CREATED:20220425T034653Z
LAST-MODIFIED:20220425T034653Z
UID:1242-1650996000-1651003200@sisouthperth.org.au
SUMMARY:Public Speaking Competition 2022
DESCRIPTION:Soroptimist International of Western Australia is running a public speaking competition across the universities in Western Australia. The competition is open to any female studying at a university in Western Australia and provides a platform for women to discuss something important to them and showcase their vision for a better future.\n\n \n\nSI South Perth is hosting the Round 1 competition at Curtin University on Tuesday 26 April\, 6.00 pm at Curtin Medical School 401.101.\n\nYou are invited to come and be in the audience.  These young ladies are amazing and will present topics that challenge our thinking and prove an opportunity for us to women engaged in higher studies\, that will eventually help others.\n\n \n\nPlease note: In accordance with university guidelines\, proof of vaccination is required for all participants.
URL:http://sisouthperth.org.au/event/public-speaking-competition-2022/
LOCATION:Curtin University Medical School Room 401.428\, Hayman Road\, Bentley\, Western Australia\, 6102\, Australia
ORGANIZER;CN="SISP":MAILTO:info@sisouthperth.org.au
END:VEVENT
END:VCALENDAR