BEGIN:VCALENDAR
VERSION:2.0
PRODID:-//Soroptimist International of South Perth - ECPv6.15.17//NONSGML v1.0//EN
CALSCALE:GREGORIAN
METHOD:PUBLISH
X-WR-CALNAME:Soroptimist International of South Perth
X-ORIGINAL-URL:http://sisouthperth.org.au
X-WR-CALDESC:Events for Soroptimist International of South Perth
REFRESH-INTERVAL;VALUE=DURATION:PT1H
X-Robots-Tag:noindex
X-PUBLISHED-TTL:PT1H
BEGIN:VTIMEZONE
TZID:Australia/Perth
BEGIN:STANDARD
TZOFFSETFROM:+0800
TZOFFSETTO:+0800
TZNAME:AWST
DTSTART:20200101T000000
END:STANDARD
END:VTIMEZONE
BEGIN:VEVENT
DTSTART;TZID=Australia/Perth:20211214T070000
DTEND;TZID=Australia/Perth:20211214T090000
DTSTAMP:20260423T163442
CREATED:20211110T010641Z
LAST-MODIFIED:20211110T010641Z
UID:1182-1639465200-1639472400@sisouthperth.org.au
SUMMARY:December Breakfast Meeting
DESCRIPTION:Our November breakfast meeting will be held at the Royal Perth Golf Club at 7.00 am on Tuesday 14 December 2021. \n \nPlease join us for a hearty breakfast and an opportunity to hear about the work we do and the wonderful opportunities there are to support women and girls in need. \n \nDetails:\nTime: 7.00 am\nCost: $28.00 full cooked breakfast\nVenue: Royal Perth Golf Club\, Labouchere Road\, South Perth \n \nPlease contact our club secretary to make a booking by emailing:\ninfo@sisouthperth.org.au
URL:http://sisouthperth.org.au/event/december-breakfast-meeting/
LOCATION:Royal Perth Golf Club\, Labouchere Rd\, South Perth\, WA\, 6151
ORGANIZER;CN="SISP":MAILTO:info@sisouthperth.org.au
END:VEVENT
END:VCALENDAR