BEGIN:VCALENDAR
VERSION:2.0
PRODID:-//Soroptimist International of South Perth - ECPv6.15.17//NONSGML v1.0//EN
CALSCALE:GREGORIAN
METHOD:PUBLISH
X-ORIGINAL-URL:http://sisouthperth.org.au
X-WR-CALDESC:Events for Soroptimist International of South Perth
REFRESH-INTERVAL;VALUE=DURATION:PT1H
X-Robots-Tag:noindex
X-PUBLISHED-TTL:PT1H
BEGIN:VTIMEZONE
TZID:Australia/Perth
BEGIN:STANDARD
TZOFFSETFROM:+0800
TZOFFSETTO:+0800
TZNAME:AWST
DTSTART:20200101T000000
END:STANDARD
END:VTIMEZONE
BEGIN:VEVENT
DTSTART;TZID=Australia/Perth:20211109T070000
DTEND;TZID=Australia/Perth:20211109T090000
DTSTAMP:20260423T174733
CREATED:20211101T045808Z
LAST-MODIFIED:20211101T045808Z
UID:1173-1636441200-1636448400@sisouthperth.org.au
SUMMARY:November Breakfast meeting
DESCRIPTION:Our November breakfast meeting will be held at the Royal Perth Golf Club at 7.00 am on Tuesday 9 November 2021. \nPlease join us for a hearty breakfast and an opportunity to hear about the work we do and the wonderful opportunities there are to support women and girls in need. \nDetails:Time: 7.00 amCost: $28.00 full cooked breakfastVenue: Royal Perth Golf Club\, Labouchere Road\, South Perth \nPlease contact our club secretary to make a booking by emailing:info@sisouthperth.org.au \n\n\n\n\n\n\n 
URL:http://sisouthperth.org.au/event/november-breakfast-meeting/
LOCATION:Royal Perth Golf Club\, Labouchere Rd\, South Perth\, WA\, 6151
ORGANIZER;CN="SISP":MAILTO:info@sisouthperth.org.au
END:VEVENT
BEGIN:VEVENT
DTSTART;TZID=Australia/Perth:20211114T070000
DTEND;TZID=Australia/Perth:20211114T140000
DTSTAMP:20260423T174733
CREATED:20210926T063258Z
LAST-MODIFIED:20211110T010317Z
UID:1158-1636873200-1636898400@sisouthperth.org.au
SUMMARY:Giant Spring Fair
DESCRIPTION:Come along and enjoy a Devonshire tea\, brekky roll or other yummy nibbles as you check out all the goodies we have on sale\, including preserves and baked goods\, books\, clothes\, household goods\, jewellery\, face painting\, toys\, games\, plants\, raffles and more. We guarantee there will be bargains and fun for all. \nAll funds raised go to our projects which support women and girls in need.
URL:http://sisouthperth.org.au/event/giant-spring-fair-3/
LOCATION:South Perth Primary School\, Forrest St\, South Perth\, WA\, 6151
ORGANIZER;CN="SISP":MAILTO:info@sisouthperth.org.au
END:VEVENT
END:VCALENDAR