BEGIN:VCALENDAR
VERSION:2.0
PRODID:-//Soroptimist International of South Perth - ECPv6.15.17//NONSGML v1.0//EN
CALSCALE:GREGORIAN
METHOD:PUBLISH
X-WR-CALNAME:Soroptimist International of South Perth
X-ORIGINAL-URL:http://sisouthperth.org.au
X-WR-CALDESC:Events for Soroptimist International of South Perth
REFRESH-INTERVAL;VALUE=DURATION:PT1H
X-Robots-Tag:noindex
X-PUBLISHED-TTL:PT1H
BEGIN:VTIMEZONE
TZID:Australia/Perth
BEGIN:STANDARD
TZOFFSETFROM:+0800
TZOFFSETTO:+0800
TZNAME:AWST
DTSTART:20200101T000000
END:STANDARD
END:VTIMEZONE
BEGIN:VEVENT
DTSTART;TZID=Australia/Perth:20211009T100000
DTEND;TZID=Australia/Perth:20211010T160000
DTSTAMP:20260423T191204
CREATED:20210715T045351Z
LAST-MODIFIED:20210715T045351Z
UID:1139-1633773600-1633881600@sisouthperth.org.au
SUMMARY:Bricktober - Sweet Treats
DESCRIPTION:Come along to the Ascot Rotary’s wonderful Bricktober event and pick up a home baked sweet treat from us. All profits will go to our service projects\, helping women and girls.\n\n \n\nWhen: Saturday 9 October and Sunday 10 October 2021\nWhere: Curtin Stadium – Curtin University\n\n \n\nBricktober-Perth is a family friendly event that brings the community and fans of the brick in Perth\, WA together.
URL:http://sisouthperth.org.au/event/bricktober-sweet-treats/
LOCATION:Curtin Stadium – Curtin University\, Curtin University\, Kent Street\, Bentley\, Western Australia\, 6102\, Australia
ORGANIZER;CN="SISP":MAILTO:info@sisouthperth.org.au
END:VEVENT
BEGIN:VEVENT
DTSTART;VALUE=DATE:20211011
DTEND;VALUE=DATE:20211012
DTSTAMP:20260423T191204
CREATED:20211011T042541Z
LAST-MODIFIED:20211011T042541Z
UID:1161-1633910400-1633996799@sisouthperth.org.au
SUMMARY:International Day of the Girl
DESCRIPTION:In 1995 at the World Conference on Women in Beijing countries unanimously adopted the Beijing Declaration and Platform for Action – the most progressive blueprint ever for advancing the rights of not only women but girls. The Beijing Declaration is the first to specifically call out girls’ rights. \nUnited Nations General Assembly has adopted October 11 as the International Day of the Girl Child\, to recognize girls’ rights and the unique challenges girls face around the world. \nThe International Day of the Girl Child focuses attention on the need to address the challenges girls face and to promote girls’ empowerment and the fulfilment of their human rights.
URL:http://sisouthperth.org.au/event/international-day-of-the-girl/
END:VEVENT
BEGIN:VEVENT
DTSTART;TZID=Australia/Perth:20211012T070000
DTEND;TZID=Australia/Perth:20211012T083000
DTSTAMP:20260423T191204
CREATED:20210926T062315Z
LAST-MODIFIED:20210926T062315Z
UID:1153-1634022000-1634027400@sisouthperth.org.au
SUMMARY:October Breakfast Meeting
DESCRIPTION:Our August breakfast meeting will be held at the Royal Perth Golf Club at 7.00 am on Tuesday 12 October 2021. \nPlease join us for a hearty breakfast and an opportunity to hear about the work we do and the wonderful opportunities there are to support women and girls in need. \nDetails:Time: 7.00 amCost: $28.00 full cooked breakfastVenue: Royal Perth Golf Club\, Labouchere Road\, South Perth \nPlease contact our club secretary to make a booking by emailing:info@sisouthperth.org.au
URL:http://sisouthperth.org.au/event/october-breakfast-meeting/
LOCATION:Royal Perth Golf Club\, Labouchere Rd\, South Perth\, WA\, 6151
ORGANIZER;CN="SISP":MAILTO:info@sisouthperth.org.au
END:VEVENT
END:VCALENDAR