BEGIN:VCALENDAR
VERSION:2.0
PRODID:-//Soroptimist International of South Perth - ECPv6.15.17//NONSGML v1.0//EN
CALSCALE:GREGORIAN
METHOD:PUBLISH
X-WR-CALNAME:Soroptimist International of South Perth
X-ORIGINAL-URL:http://sisouthperth.org.au
X-WR-CALDESC:Events for Soroptimist International of South Perth
REFRESH-INTERVAL;VALUE=DURATION:PT1H
X-Robots-Tag:noindex
X-PUBLISHED-TTL:PT1H
BEGIN:VTIMEZONE
TZID:Australia/Perth
BEGIN:STANDARD
TZOFFSETFROM:+0800
TZOFFSETTO:+0800
TZNAME:AWST
DTSTART:20190101T000000
END:STANDARD
END:VTIMEZONE
BEGIN:VEVENT
DTSTART;TZID=Australia/Perth:20200609T070000
DTEND;TZID=Australia/Perth:20200609T080000
DTSTAMP:20260424T192859
CREATED:20200609T000631Z
LAST-MODIFIED:20200609T000958Z
UID:760-1591686000-1591689600@sisouthperth.org.au
SUMMARY:Breakfast Meeting
DESCRIPTION:
URL:http://sisouthperth.org.au/event/breakfast-meeting-7/
LOCATION:Online
ORGANIZER;CN="SISP":MAILTO:info@sisouthperth.org.au
END:VEVENT
BEGIN:VEVENT
DTSTART;TZID=Australia/Perth:20200623T070000
DTEND;TZID=Australia/Perth:20200623T080000
DTSTAMP:20260424T192859
CREATED:20200609T000847Z
LAST-MODIFIED:20200609T000847Z
UID:762-1592895600-1592899200@sisouthperth.org.au
SUMMARY:Executive Meeting
DESCRIPTION:
URL:http://sisouthperth.org.au/event/executive-meeting-7/
LOCATION:Online
ORGANIZER;CN="SISP":MAILTO:info@sisouthperth.org.au
END:VEVENT
END:VCALENDAR