BEGIN:VCALENDAR
VERSION:2.0
PRODID:-//Soroptimist International of South Perth - ECPv6.15.17//NONSGML v1.0//EN
CALSCALE:GREGORIAN
METHOD:PUBLISH
X-WR-CALNAME:Soroptimist International of South Perth
X-ORIGINAL-URL:http://sisouthperth.org.au
X-WR-CALDESC:Events for Soroptimist International of South Perth
REFRESH-INTERVAL;VALUE=DURATION:PT1H
X-Robots-Tag:noindex
X-PUBLISHED-TTL:PT1H
BEGIN:VTIMEZONE
TZID:Australia/Perth
BEGIN:STANDARD
TZOFFSETFROM:+0800
TZOFFSETTO:+0800
TZNAME:AWST
DTSTART:20190101T000000
END:STANDARD
END:VTIMEZONE
BEGIN:VEVENT
DTSTART;TZID=Australia/Perth:20200512T070000
DTEND;TZID=Australia/Perth:20200512T080000
DTSTAMP:20260424T205203
CREATED:20200504T095638Z
LAST-MODIFIED:20200504T095638Z
UID:753-1589266800-1589270400@sisouthperth.org.au
SUMMARY:Breakfast Meeting
DESCRIPTION:
URL:http://sisouthperth.org.au/event/breakfast-meeting-6/
LOCATION:Online
ORGANIZER;CN="SISP":MAILTO:info@sisouthperth.org.au
END:VEVENT
BEGIN:VEVENT
DTSTART;TZID=Australia/Perth:20200526T070000
DTEND;TZID=Australia/Perth:20200526T080000
DTSTAMP:20260424T205204
CREATED:20200504T095807Z
LAST-MODIFIED:20200504T095807Z
UID:755-1590476400-1590480000@sisouthperth.org.au
SUMMARY:Executive Meeting
DESCRIPTION:
URL:http://sisouthperth.org.au/event/executive-meeting-6/
LOCATION:Online
ORGANIZER;CN="SISP":MAILTO:info@sisouthperth.org.au
END:VEVENT
END:VCALENDAR