BEGIN:VCALENDAR
VERSION:2.0
PRODID:-//Soroptimist International of South Perth - ECPv6.15.17//NONSGML v1.0//EN
CALSCALE:GREGORIAN
METHOD:PUBLISH
X-ORIGINAL-URL:http://sisouthperth.org.au
X-WR-CALDESC:Events for Soroptimist International of South Perth
REFRESH-INTERVAL;VALUE=DURATION:PT1H
X-Robots-Tag:noindex
X-PUBLISHED-TTL:PT1H
BEGIN:VTIMEZONE
TZID:Australia/Perth
BEGIN:STANDARD
TZOFFSETFROM:+0800
TZOFFSETTO:+0800
TZNAME:AWST
DTSTART:20190101T000000
END:STANDARD
END:VTIMEZONE
BEGIN:VEVENT
DTSTART;TZID=Australia/Perth:20200304T070000
DTEND;TZID=Australia/Perth:20200304T090000
DTSTAMP:20260424T235823
CREATED:20200206T063722Z
LAST-MODIFIED:20200206T063722Z
UID:684-1583305200-1583312400@sisouthperth.org.au
SUMMARY:IWD Breakfast
DESCRIPTION:
URL:http://sisouthperth.org.au/event/iwd-breakfast/
LOCATION:Perth Convention and Exhibition Centre\, Mounts Bay Road\, Perth\, WA\, 6000\, Australia
END:VEVENT
BEGIN:VEVENT
DTSTART;TZID=Australia/Perth:20200307T093000
DTEND;TZID=Australia/Perth:20200307T123000
DTSTAMP:20260424T235823
CREATED:20200206T061441Z
LAST-MODIFIED:20200206T061609Z
UID:677-1583573400-1583584200@sisouthperth.org.au
SUMMARY:SIWA Region Meeting
DESCRIPTION:
URL:http://sisouthperth.org.au/event/siwa-region-meeting-2/
LOCATION:DNA Kingston College\, 63-69 Abernethy Road\, Belmont\, WA\, 6104\, Australia
ORGANIZER;CN="SIWA":MAILTO:siwesternaustralia@siseap.org
END:VEVENT
BEGIN:VEVENT
DTSTART;TZID=Australia/Perth:20200310T070000
DTEND;TZID=Australia/Perth:20200310T083000
DTSTAMP:20260424T235823
CREATED:20200206T061740Z
LAST-MODIFIED:20200206T061740Z
UID:680-1583823600-1583829000@sisouthperth.org.au
SUMMARY:Breakfast Meeting
DESCRIPTION:
URL:http://sisouthperth.org.au/event/breakfast-meeting-4/
LOCATION:Royal Perth Golf Club\, Labouchere Rd\, South Perth\, WA\, 6151
ORGANIZER;CN="SISP":MAILTO:info@sisouthperth.org.au
END:VEVENT
BEGIN:VEVENT
DTSTART;TZID=Australia/Perth:20200324T070000
DTEND;TZID=Australia/Perth:20200324T083000
DTSTAMP:20260424T235823
CREATED:20200206T061825Z
LAST-MODIFIED:20200206T061825Z
UID:682-1585033200-1585038600@sisouthperth.org.au
SUMMARY:Executive Meeting
DESCRIPTION:
URL:http://sisouthperth.org.au/event/executive-meeting-4/
LOCATION:Online
ORGANIZER;CN="SISP":MAILTO:info@sisouthperth.org.au
END:VEVENT
END:VCALENDAR