BEGIN:VCALENDAR
VERSION:2.0
PRODID:-//Soroptimist International of South Perth - ECPv6.15.17//NONSGML v1.0//EN
CALSCALE:GREGORIAN
METHOD:PUBLISH
X-WR-CALNAME:Soroptimist International of South Perth
X-ORIGINAL-URL:http://sisouthperth.org.au
X-WR-CALDESC:Events for Soroptimist International of South Perth
REFRESH-INTERVAL;VALUE=DURATION:PT1H
X-Robots-Tag:noindex
X-PUBLISHED-TTL:PT1H
BEGIN:VTIMEZONE
TZID:Australia/Perth
BEGIN:STANDARD
TZOFFSETFROM:+0800
TZOFFSETTO:+0800
TZNAME:AWST
DTSTART:20180101T000000
END:STANDARD
END:VTIMEZONE
BEGIN:VEVENT
DTSTART;VALUE=DATE:20191125
DTEND;VALUE=DATE:20191211
DTSTAMP:20260425T043559
CREATED:20191028T111546Z
LAST-MODIFIED:20191028T111816Z
UID:610-1574640000-1576022399@sisouthperth.org.au
SUMMARY:16 Days of Activism
DESCRIPTION:Beginning on 25 November and ending on 10 December is the United Nations 16 Days of Activism against Gender-Based Violence Campaign. It is a time to galvanize action to end violence against women and girls around the world. \nThis international campaign originated from the first Women’s Global Leadership Institute coordinated by the Centre for Women’s Global Leadership in 1991.  For several years now Soroptimist clubs have used the Walk the Talk campaign to advocate for an END to violence against women.
URL:http://sisouthperth.org.au/event/16-days-of-activism/
ORGANIZER;CN="SISP":MAILTO:info@sisouthperth.org.au
END:VEVENT
BEGIN:VEVENT
DTSTART;TZID=Australia/Perth:20191201T140000
DTEND;TZID=Australia/Perth:20191201T160000
DTSTAMP:20260425T043559
CREATED:20191008T051616Z
LAST-MODIFIED:20191008T051616Z
UID:560-1575208800-1575216000@sisouthperth.org.au
SUMMARY:Meadowlark Concert
DESCRIPTION:
URL:http://sisouthperth.org.au/event/meadowlark-concert/
LOCATION:St Mary’s Anglican Church\, 9 Ridge St\, South Perth\, WA\, 6151
ORGANIZER;CN="SISP":MAILTO:info@sisouthperth.org.au
END:VEVENT
BEGIN:VEVENT
DTSTART;TZID=Australia/Perth:20191210T070000
DTEND;TZID=Australia/Perth:20191210T083000
DTSTAMP:20260425T043559
CREATED:20191008T051807Z
LAST-MODIFIED:20191008T051807Z
UID:563-1575961200-1575966600@sisouthperth.org.au
SUMMARY:Breakfast Meeting
DESCRIPTION:
URL:http://sisouthperth.org.au/event/breakfast-meeting-2/
LOCATION:Royal Perth Golf Club\, Labouchere Rd\, South Perth\, WA\, 6151
ORGANIZER;CN="SISP":MAILTO:info@sisouthperth.org.au
END:VEVENT
BEGIN:VEVENT
DTSTART;VALUE=DATE:20191225
DTEND;VALUE=DATE:20191226
DTSTAMP:20260425T043559
CREATED:20191221T053411Z
LAST-MODIFIED:20191221T053411Z
UID:646-1577232000-1577318399@sisouthperth.org.au
SUMMARY:Christmas Day
DESCRIPTION:Wishing all our SISP members a happy and restful Christmas break.
URL:http://sisouthperth.org.au/event/christmas-day/
END:VEVENT
END:VCALENDAR