BEGIN:VCALENDAR
VERSION:2.0
PRODID:-//Soroptimist International of South Perth - ECPv6.15.17//NONSGML v1.0//EN
CALSCALE:GREGORIAN
METHOD:PUBLISH
X-WR-CALNAME:Soroptimist International of South Perth
X-ORIGINAL-URL:http://sisouthperth.org.au
X-WR-CALDESC:Events for Soroptimist International of South Perth
REFRESH-INTERVAL;VALUE=DURATION:PT1H
X-Robots-Tag:noindex
X-PUBLISHED-TTL:PT1H
BEGIN:VTIMEZONE
TZID:Australia/Perth
BEGIN:STANDARD
TZOFFSETFROM:+0800
TZOFFSETTO:+0800
TZNAME:AWST
DTSTART:20250101T000000
END:STANDARD
END:VTIMEZONE
BEGIN:VEVENT
DTSTART;TZID=Australia/Perth:20260424T150000
DTEND;TZID=Australia/Perth:20260424T170000
DTSTAMP:20260424T042706
CREATED:20260124T083346Z
LAST-MODIFIED:20260124T083707Z
UID:2319-1777042800-1777050000@sisouthperth.org.au
SUMMARY:Wreath-making for ANZAC Day
DESCRIPTION:
URL:http://sisouthperth.org.au/event/wreath-making-for-anzac-day-2/
LOCATION:33 Tate St\, South Perth\, 33 Tate Street\, SOUTH PERTH\, WA\, 6151\, Australia
ORGANIZER;CN="SISP":MAILTO:info@sisouthperth.org.au
END:VEVENT
END:VCALENDAR